BEGIN:VCALENDAR
VERSION:2.0
PRODID:-//AudioTheme 2.3.1
BEGIN:VEVENT
UID:urn:uuid:f39efa5e-f1b2-4e5e-b3f1-fa16f97195bb
URL:https://moitieduo.com/cal/%eb%8c%80%ed%95%9c%eb%af%bc%ea%b5%ad-%ec%8b%a4%eb%82%b4%ec%95%bd-%ec%9e%91%ea%b3%a1%ec%a0%9c%ec%a0%84/
DTSTART;TZID=GMT:20191113T000000
SUMMARY:2019 대한민국 실내악 작곡제전 V
DESCRIPTION:김승림 작곡가 신작  김은혜\, 한문경 연주
LOCATION:예술의전당 리사이틀홀
END:VEVENT
END:VCALENDAR
