BEGIN:VCALENDAR
VERSION:2.0
PRODID:-//AudioTheme 2.3.1
BEGIN:VEVENT
UID:urn:uuid:67055c61-ea46-422e-add0-b0dba20d2ecc
URL:https://moitieduo.com/cal/%eb%91%90-%eb%aa%85%ec%9d%98-%ed%94%bc%ec%95%84%eb%8b%88%ec%8a%a4%ed%8a%b8%ec%99%80-%eb%91%90-%eb%aa%85%ec%9d%98-%ed%8d%bc%ec%bb%a4%ec%85%94%eb%8b%88%ec%8a%a4%ed%8a%b8%ec%9d%98-%eb%a7%8c%eb%82%a8/
DTSTART;TZID=GMT:20190831T000000
SUMMARY:두 명의 피아니스트와 두 명의 퍼커셔니스트의 만남
DESCRIPTION:김은혜\, 한문경 연주
LOCATION:무계원
END:VEVENT
END:VCALENDAR
