BEGIN:VCALENDAR
VERSION:2.0
PRODID:-//AudioTheme 2.3.1
BEGIN:VEVENT
UID:urn:uuid:c86a6a60-daab-4757-a521-aa8543005a2c
URL:https://moitieduo.com/cal/%eb%aa%a8%ec%95%84%ed%8b%b0%ec%97%90-%ec%a0%9c-8%ed%9a%8c-%ec%a0%95%ea%b8%b0%ec%97%b0%ec%a3%bc%ed%9a%8c/
DTSTART;TZID=GMT:20191129T000000
SUMMARY:타악듀오 모아티에 제 8회 정기연주회 '진동의 질감'
DESCRIPTION:김은혜\, 한문경 연주
LOCATION:금호아트홀 연세
END:VEVENT
END:VCALENDAR
