BEGIN:VCALENDAR
VERSION:2.0
PRODID:-//AudioTheme 2.3.1
BEGIN:VEVENT
UID:urn:uuid:216162af-c37a-45ed-9242-c6076bcb3af0
URL:https://moitieduo.com/cal/%eb%af%b8%ec%a0%95/
DTSTART;TZID=GMT:20200725T000000
SUMMARY:제 17회 평창대관령음악제 "그래야만 한다!" - Echo
DESCRIPTION:김은혜\, 한문경 연주  with 평창 페스티벌 오케스트라
LOCATION:알펜시아 뮤직텐드
END:VEVENT
END:VCALENDAR
