BEGIN:VCALENDAR
VERSION:2.0
PRODID:-//AudioTheme 2.3.1
BEGIN:VEVENT
UID:urn:uuid:763dfa23-eacb-4d39-96e8-7507405ff9d3
URL:https://moitieduo.com/cal/%ec%84%9c%ec%9a%b8%ec%8a%a4%ed%94%84%eb%a7%81%ec%8b%a4%eb%82%b4%ec%95%85%ec%b6%95%ec%a0%9c2-%ed%95%9c%eb%ac%b8%ea%b2%bd-%ec%97%b0%ec%a3%bc/
DTSTART;TZID=GMT:20190530T000000
SUMMARY:서울스프링실내악축제2
DESCRIPTION:한문경 연주
LOCATION:예술의전당 IBK챔버홀
END:VEVENT
END:VCALENDAR
