BEGIN:VCALENDAR
VERSION:2.0
PRODID:-//AudioTheme 2.3.1
BEGIN:VEVENT
UID:urn:uuid:022d04a1-1611-4a71-89ac-4f16bd2feafe
URL:https://moitieduo.com/cal/%ec%84%b1%eb%82%a8%ec%95%84%ed%8a%b8%ec%84%bc%ed%84%b0-%ec%a0%9c%ec%95%bc%ec%9d%8c%ec%95%85%ed%9a%8c/
DTSTART;TZID=GMT:20191231T000000
SUMMARY:성남아트센터 제야음악회
DESCRIPTION:한문경 연주
LOCATION:성남아트센터 콘서트홀
END:VEVENT
END:VCALENDAR
