BEGIN:VCALENDAR
VERSION:2.0
PRODID:-//AudioTheme 2.3.1
BEGIN:VEVENT
UID:urn:uuid:a8556501-e1f7-4260-bcde-677a24f2a851
URL:https://moitieduo.com/cal/%ec%84%b8%ec%83%81%ec%9d%84-%eb%91%90%eb%93%9c%eb%a6%ac%eb%8b%a4-%ec%98%a4%ec%82%b0/
DTSTART;TZID=GMT:20190124T000000
SUMMARY:세상을 두드리다 - 한문경 독주회
LOCATION:오산문화예술회관
END:VEVENT
END:VCALENDAR
