BEGIN:VCALENDAR
VERSION:2.0
PRODID:-//AudioTheme 2.3.1
BEGIN:VEVENT
UID:urn:uuid:bd65b4a1-fd66-458f-8ab0-c02d63c2048a
URL:https://moitieduo.com/cal/%ec%95%99%ec%83%81%eb%b8%94-timf/
DTSTART;TZID=GMT:20200513T000000
SUMMARY:앙상블 TIMF 사운드온디엣지 1 '한국 작곡가의 밤'
DESCRIPTION:김은혜\, 한문경 연주
LOCATION:일신홀
END:VEVENT
END:VCALENDAR
