BEGIN:VCALENDAR
VERSION:2.0
PRODID:-//AudioTheme 2.3.1
BEGIN:VEVENT
UID:urn:uuid:fc63f67d-98bc-498d-a59e-44ea3a61a15e
URL:https://moitieduo.com/cal/%ec%96%b8eon-%ec%9e%91%ed%92%88%eb%b0%9c%ed%91%9c%ed%9a%8c/
DTSTART;TZID=GMT:20191118T000000
SUMMARY:'언[eon]' 작품 발표회
DESCRIPTION:그룹 언[eon] : 작곡가 김고은\, 김혜원\, 유소정\, 조예본\, 조은혜  김은혜\, 한문경 연주
LOCATION:일신홀
END:VEVENT
END:VCALENDAR
