BEGIN:VCALENDAR
VERSION:2.0
PRODID:-//AudioTheme 2.3.1
BEGIN:VEVENT
UID:urn:uuid:5d7a9940-09ba-4a95-a858-36a8b46619a9
URL:https://moitieduo.com/cal/%ec%9d%b4%ec%9c%a4%ec%84%9d-%ec%9e%91%ea%b3%a1%eb%b0%9c%ed%91%9c%ed%9a%8c/
DTSTART;TZID=GMT:20190520T000000
SUMMARY:이윤석 작곡발표회
DESCRIPTION:한문경 연주
LOCATION:일신홀
END:VEVENT
END:VCALENDAR
