BEGIN:VCALENDAR
VERSION:2.0
PRODID:-//AudioTheme 2.3.1
BEGIN:VEVENT
UID:urn:uuid:fe3facd3-ea2d-4661-9717-cd763669a38e
URL:https://moitieduo.com/cal/%ec%a0%9c-29%ed%9a%8c-%ed%95%9c%ea%b5%ad%ed%8e%98%ec%8a%a4%ed%8b%b0%eb%b0%9c%ec%95%99%ec%83%81%eb%b8%94-%ec%82%b6%ec%9d%84-%eb%91%90%eb%93%9c%eb%a6%ac%eb%8b%a4/
DTSTART;TZID=GMT:20190321T000000
SUMMARY:한국페스티발앙상블 제 29회 현대음악축제, '삶을 두드리다'
DESCRIPTION:김은혜 연주
LOCATION:예술의전당 리사이틀홀
END:VEVENT
END:VCALENDAR
