BEGIN:VCALENDAR
VERSION:2.0
PRODID:-//AudioTheme 2.3.1
BEGIN:VEVENT
UID:urn:uuid:2851224c-5550-45bd-926f-64eac255e51a
URL:https://moitieduo.com/cal/%ec%a0%9c-47%ed%9a%8c-%eb%b2%94%ec%9d%8c%ec%95%85%ec%a0%9c-pan-music-festival-2/
DTSTART;TZID=GMT:20190925T000000
SUMMARY:제 47회 범음악제 Pan Music Festival 2
DESCRIPTION:타악듀오 모아티에 with 전자음악
LOCATION:서초 패리지홀
END:VEVENT
END:VCALENDAR
