BEGIN:VCALENDAR
VERSION:2.0
PRODID:-//AudioTheme 2.3.1
BEGIN:VEVENT
UID:urn:uuid:5ccd7eee-e8d3-4dc4-8208-1dc780478374
URL:https://moitieduo.com/cal/%ec%a0%9c-47%ed%9a%8c-%eb%b2%94%ec%9d%8c%ec%95%85%ec%a0%9c-pan-music-festival-3/
DTSTART;TZID=GMT:20190927T000000
SUMMARY:제 47회 범음악제 Pan Music Festival 3
DESCRIPTION:김혜원 작곡가 공모작 초연  
LOCATION:예술의전당 리사이틀홀
END:VEVENT
END:VCALENDAR
