BEGIN:VCALENDAR
VERSION:2.0
PRODID:-//AudioTheme 2.3.1
BEGIN:VEVENT
UID:urn:uuid:a7415915-bc89-4bac-9afe-f92f838f8b94
URL:https://moitieduo.com/cal/%ec%a0%9c-47%ed%9a%8c-%eb%b2%94%ec%9d%8c%ec%95%85%ec%a0%9c-pan-music-festival/
DTSTART;TZID=GMT:20190923T000000
SUMMARY:제 47회 범음악제 Pan Music Festival
DESCRIPTION:타악듀오 모아티에 with 전자음악
LOCATION:제주대학교 음악관 콘서트홀
END:VEVENT
END:VCALENDAR
