BEGIN:VCALENDAR
VERSION:2.0
PRODID:-//AudioTheme 2.3.1
BEGIN:VEVENT
UID:urn:uuid:aceb539e-8c2c-40aa-bcda-0ab7849b59b4
URL:https://moitieduo.com/cal/%ec%a0%9c-9%ed%9a%8c-%eb%aa%a8%ec%95%84%ed%8b%b0%ec%97%90-%ec%a0%95%ea%b8%b0-%ec%97%b0%ec%a3%bc%ed%9a%8c-%ec%a0%9c%eb%aa%a9-%eb%af%b8%ec%a0%95/
DTSTART;TZID=GMT:20200729T000000
SUMMARY:타악듀오 모아티에 제 9회 정기 연주회 [color : vision]
DESCRIPTION:김은혜\, 한문경 연주 (무관중)  Percussion Duo Moitie 페이스북 페이지 생중계
LOCATION:제주 오!뮤직홀
END:VEVENT
END:VCALENDAR
