BEGIN:VCALENDAR
VERSION:2.0
PRODID:-//AudioTheme 2.3.1
BEGIN:VEVENT
UID:urn:uuid:c00cdc0d-f6d1-4ff2-a671-0b555b610a4c
URL:https://moitieduo.com/cal/%ec%b6%94%ea%b3%84%ec%98%88%ec%88%a0%eb%8c%80%ed%95%99-%ec%9e%91%ea%b3%a1%ea%b3%bc-%ec%9b%8c%ed%81%ac%ec%83%b5-%ed%83%80%ec%95%85%eb%93%80%ec%98%a4-%eb%aa%a8%ec%95%84%ed%8b%b0%ec%97%90/
DTSTART;TZID=GMT:20191008T000000
SUMMARY:추계예술대학 작곡과 워크샵: 타악듀오 모아티에
DESCRIPTION:김은혜\, 한문경 연주
LOCATION:추계예술대학교 리사이틀홀
END:VEVENT
END:VCALENDAR
