BEGIN:VCALENDAR
VERSION:2.0
PRODID:-//AudioTheme 2.3.1
BEGIN:VEVENT
UID:urn:uuid:b87cc493-670d-40a0-84a1-8b8855665baf
URL:https://moitieduo.com/cal/%ed%83%80%ec%95%85%eb%93%80%ec%98%a4-%eb%aa%a8%ec%95%84%ed%8b%b0%ec%97%90-x-%ec%88%98%ec%97%90%eb%a5%b4-%ed%83%80%ec%95%85%ea%b8%b0-%ec%95%99%ec%83%81%eb%b8%94-%ea%b3%b5%ec%97%b0/
DTSTART;TZID=GMT:20200821T000000
SUMMARY:타악듀오 모아티에 x 수에르 타악기 앙상블 공연
DESCRIPTION:김은혜\, 한문경 연주 (무관중)  중계: 2020년 9월 30일 오후 8시 유튜브 채널 모아티에 TV 
LOCATION:신영체임버홀
END:VEVENT
END:VCALENDAR
