BEGIN:VCALENDAR
VERSION:2.0
PRODID:-//AudioTheme 2.3.1
BEGIN:VEVENT
UID:urn:uuid:2925a58d-c18e-405c-a6c9-42d2c804297e
URL:https://moitieduo.com/cal/%ed%8d%bc%ec%bb%a4%ec%85%94%eb%8b%88%ec%8a%a4%ed%8a%b8-%ed%95%9c%eb%ac%b8%ea%b2%bd-%eb%8f%85%ec%a3%bc%ed%9a%8c/
DTSTART;TZID=GMT:20200102T000000
SUMMARY:퍼커셔니스트 한문경 독주회
DESCRIPTION:한문경 연주
LOCATION:예술의전당 IBK챔버홀
END:VEVENT
END:VCALENDAR
