BEGIN:VCALENDAR
VERSION:2.0
PRODID:-//AudioTheme 2.3.1
BEGIN:VEVENT
UID:urn:uuid:21ead5e8-2ea9-4436-80d6-b8b96e830541
URL:https://moitieduo.com/cal/%ed%95%9c%eb%ac%b8%ea%b2%bd-%eb%8f%85%ec%a3%bc%ed%9a%8c-2/
DTSTART;TZID=GMT:20190726T000000
SUMMARY:한문경 독주회
LOCATION:일신홀
END:VEVENT
END:VCALENDAR
