BEGIN:VCALENDAR
VERSION:2.0
PRODID:-//AudioTheme 2.3.1
BEGIN:VEVENT
UID:urn:uuid:7fbdd912-b9c4-4514-a80c-959abc597248
URL:https://moitieduo.com/cal/%ed%95%9c%eb%ac%b8%ea%b2%bd-%eb%8f%85%ec%a3%bc%ed%9a%8c/
DTSTART;TZID=GMT:20190424T000000
SUMMARY:'유중의 밤' 콘서트 시리즈 '내 방에 머무르다' - 한문경 독주회
LOCATION:유중아트센터
END:VEVENT
END:VCALENDAR
