BEGIN:VCALENDAR
VERSION:2.0
PRODID:-//AudioTheme 2.3.1
BEGIN:VEVENT
UID:urn:uuid:0c375b5f-ab34-42d1-bfaf-e70b21b46f76
URL:https://moitieduo.com/cal/%ed%95%9c%ed%99%94%ec%83%9d%eb%aa%85%ea%b3%bc-%ed%95%a8%ea%bb%98%ed%95%98%eb%8a%94-%ec%98%88%ec%88%a0%ec%9d%98%ec%a0%84%eb%8b%b9-11%ec%8b%9c-%ec%bd%98%ec%84%9c%ed%8a%b85%ec%9b%94/
DTSTART;TZID=GMT:20200514T000000
SUMMARY:한화생명과 함께하는 예술의전당 11시 콘서트
DESCRIPTION:김은혜 연주
LOCATION:예술의전당 콘서트홀
END:VEVENT
END:VCALENDAR
