BEGIN:VCALENDAR
VERSION:2.0
PRODID:-//AudioTheme 2.3.1
BEGIN:VEVENT
UID:urn:uuid:df417cda-4590-4dec-8709-1f1002ae142c
URL:https://moitieduo.com/cal/2019-02-01/
DTSTART;TZID=GMT:20190201T000000
SUMMARY:제 163회 코리안챔버오케스트라 정기 연주회 - 2019 신년음악회
DESCRIPTION:한문경 연주
LOCATION:예술의전당 콘서트홀
END:VEVENT
END:VCALENDAR
