BEGIN:VCALENDAR
VERSION:2.0
PRODID:-//AudioTheme 2.3.1
BEGIN:VEVENT
UID:urn:uuid:40a9ce60-cb25-47d0-85bf-a5ddd5986434
URL:https://moitieduo.com/cal/2020-acl-koreea-%eb%89%b4%eb%ae%a4%ec%a7%81-%ec%bd%98%ec%84%9c%ed%8a%b8-%ec%8b%9c%eb%a6%ac%ec%a6%88-wave-from-seoul/
DTSTART;TZID=GMT:20200907T000000
SUMMARY:ACL-Korea 뉴뮤직 콘서트 시리즈 'Wave from Seoul'
DESCRIPTION:김은혜 연주 (무관중)
LOCATION:일신홀
END:VEVENT
END:VCALENDAR
