BEGIN:VCALENDAR
VERSION:2.0
PRODID:-//AudioTheme 2.3.1
BEGIN:VEVENT
UID:urn:uuid:2cdc4aed-2150-434a-b42e-5f024c893529
URL:https://moitieduo.com/cal/mmca-night-%ec%b5%9c%ec%9e%ac%ed%98%81-x-%ec%95%99%ec%83%81%eb%b8%94-%eb%b8%94%eb%9e%ad%ed%81%ac-%ea%b3%bc%ea%b1%b0-%ed%98%84%ec%9e%ac-%ea%b7%b8%eb%a6%ac%ea%b3%a0-%eb%af%b8%eb%9e%98/
DTSTART;TZID=GMT:20190927T000000
SUMMARY:MMCA Museum Night 최재혁 x 앙상블 블랭크 '광장'
DESCRIPTION:한문경 연주
LOCATION:국립현대미술관 서울관
END:VEVENT
END:VCALENDAR
