BEGIN:VCALENDAR
VERSION:2.0
PRODID:-//AudioTheme 2.3.1
BEGIN:VEVENT
UID:urn:uuid:ae967b9b-7538-4ac2-beeb-9bb9acd1f500
URL:https://moitieduo.com/cal/test/
DTSTART;TZID=GMT:20190314T000000
SUMMARY:2019 일신 프리즘시리즈 3 : 타악듀오 모아티에
DESCRIPTION:김은혜\, 한문경 연주
LOCATION:일신홀
END:VEVENT
END:VCALENDAR
