BEGIN:VCALENDAR
VERSION:2.0
PRODID:-//AudioTheme 2.3.1
BEGIN:VEVENT
UID:urn:uuid:7ff2dfa8-be1f-4ba7-bb33-ee0954f20f22
URL:https://moitieduo.com/cal/tianjin-juilliard-faculty-ensemble/
DTSTART;TZID=GMT:20191117T000000
SUMMARY:Tianjin Juilliard Faculty Ensemble
DESCRIPTION:한문경\, 김은혜 연주
LOCATION:Tianjin Grand Theatre
END:VEVENT
END:VCALENDAR
