BEGIN:VCALENDAR
VERSION:2.0
PRODID:-//AudioTheme 2.3.1
BEGIN:VEVENT
UID:urn:uuid:453c26cb-cccd-4eb3-84ff-349743baaa98
URL:https://moitieduo.com/cal/tianjin-julliard-faculty-ensemble-in-seoul/
DTSTART;TZID=GMT:20190919T000000
SUMMARY:Tianjin Juilliard faculty Ensemble in Seoul
DESCRIPTION:Invitation only  한문경 연주
LOCATION:일신홀
END:VEVENT
END:VCALENDAR
