BEGIN:VCALENDAR
VERSION:2.0
PRODID:-//AudioTheme 2.3.1
BEGIN:VEVENT
UID:urn:uuid:eef42cb3-920a-43c9-b088-0ecf6a816bcb
URL:https://moitieduo.com/cal/tianjin-julliard-faculty-ensemble/
DTSTART;TZID=GMT:20191011T000000
SUMMARY:Tianjin Juilliard Faculty Ensemble
DESCRIPTION:한문경 연주
LOCATION:Tianjin Grand Theatre
END:VEVENT
END:VCALENDAR
