BEGIN:VCALENDAR
VERSION:2.0
PRODID:-//AudioTheme 2.3.1
BEGIN:VEVENT
UID:urn:uuid:1f966adb-9cb0-42d3-bb09-8f73825dfd5e
URL:https://moitieduo.com/cal/timf-%ec%95%99%ec%83%81%eb%b8%94-%ec%82%ac%ec%9a%b4%eb%93%9c%ec%98%a8%eb%94%94%ec%97%a3%ec%a7%80-%ec%8b%9c%eb%a6%ac%ec%a6%88/
DTSTART;TZID=GMT:20190516T000000
SUMMARY:TIMF 앙상블 사운드온디엣지 시리즈
DESCRIPTION:김은혜\, 한문경 연주
LOCATION:일신홀
END:VEVENT
END:VCALENDAR
