BEGIN:VCALENDAR
VERSION:2.0
PRODID:-//AudioTheme 2.3.1
BEGIN:VEVENT
UID:urn:uuid:d4035f8e-b59a-4577-89b4-d51cde900f81
URL:https://moitieduo.com/cal/timf-2019-%ed%86%b5%ec%98%81%ea%b5%ad%ec%a0%9c%ec%9d%8c%ec%95%85%ec%a0%9c/
DTSTART;TZID=GMT:20190401T000000
SUMMARY:2019 통영국제음악제
DESCRIPTION:2019/03/29 - 2019/04/07  김은혜\, 한문경 연주
LOCATION:통영국제음악당 블랙박스홀
END:VEVENT
END:VCALENDAR
